View In:
ArcGIS JavaScript
ArcGIS Online Map Viewer
ArcGIS Earth
ArcMap
View Footprint In:
ArcGIS Online Map Viewer
Service Description: LojicApps/HistoricImagery2019
Name: LojicApps/HistoricImagery2019
Description:
Single Fused Map Cache: true
Tile Info:
- Height: 512
- Width: 512
- DPI: 96
-
Levels of Detail: 12
- Format: JPEG
- Compression Quality: 75.0
- LERC Error: NaN
- Origin: X: -1.204284E8
Y: 1.487922E8
- Spatial Reference: 102679
(2246)
Extent:
XMin: 1146901.2118
YMin: 183661.9683
XMax: 1353189.7118
YMax: 327428.7183
Spatial Reference: 102679
(2246)
Initial Extent:
XMin: 1146901.2118
YMin: 183661.9683
XMax: 1353189.7118
YMax: 327428.7183
Spatial Reference: 102679
(2246)
Full Extent:
XMin: 1146901.2118
YMin: 183661.9683
XMax: 1353189.7118
YMax: 327428.7183
Spatial Reference: 102679
(2246)
Pixel Size X: 0.25
Pixel Size Y: 0.25
Band Count: 3
Pixel Type: U8
RasterFunction Infos: {"rasterFunctionInfos": [{
"name": "None",
"description": "",
"help": ""
}]}
Mensuration Capabilities: Basic
Has Histograms: true
Has Colormap: false
Has Multi Dimensions : false
Rendering Rule:
Min Scale: 614400
Max Scale: 300
Copyright Text:
Service Data Type: esriImageServiceDataTypeRGB
Min Values: 64, 66, 11
Max Values: 255, 255, 255
Mean Values: 202.26370101798986, 196.16092595174956, 181.6979500766976
Standard Deviation Values: 59.304619033494966, 65.59727016805233, 81.26104808647837
Object ID Field:
Fields:
None
Default Mosaic Method: Center
Allowed Mosaic Methods:
SortField:
SortValue: null
Mosaic Operator: First
Default Compression Quality: 75
Default Resampling Method: Bilinear
Max Record Count: null
Max Image Height: 4100
Max Image Width: 15000
Max Download Image Count: null
Max Mosaic Image Count: null
Allow Raster Function: true
Allow Compute TiePoints: false
Supports Statistics: false
Supports Advanced Queries: false
Use StandardizedQueries: true
Raster Type Infos:
Name: Raster Dataset
Description: Supports all ArcGIS Raster Datasets
Help:
Has Raster Attribute Table: false
Edit Fields Info: null
Ownership Based AccessControl For Rasters: null
Child Resources:
Info
Histograms
Key Properties
Legend
MultiDimensionalInfo
rasterFunctionInfos
Supported Operations:
Export Image
Identify
Measure
Compute Histograms
Compute Statistics Histograms
Get Samples
Compute Class Statistics
Query Boundary